BEGIN:VCALENDAR
PRODID:-//Microsoft Corporation//OutlookMIMEDIR//EN
VERSION:2.0
X-WR-TIMEZONE:Europe/London
CALSCALE:GREGORIAN
METHOD:PUBLISH
CLASS:PUBLIC
BEGIN:VTIMEZONE
TZID:Europe/London
LAST-MODIFIED:20260306T231828Z
TZURL:https://www.tzurl.org/zoneinfo-outlook/Europe/London
X-LIC-LOCATION:Europe/London
BEGIN:DAYLIGHT
TZNAME:BST
TZOFFSETFROM:+0000
TZOFFSETTO:+0100
DTSTART:19700329T010000
RRULE:FREQ=YEARLY;BYMONTH=3;BYDAY=-1SU
END:DAYLIGHT
BEGIN:STANDARD
TZNAME:GMT
TZOFFSETFROM:+0100
TZOFFSETTO:+0000
DTSTART:19701025T020000
RRULE:FREQ=YEARLY;BYMONTH=10;BYDAY=-1SU
END:STANDARD
END:VTIMEZONE
BEGIN:VEVENT
DTSTART;TZID=Europe/London:20240605T093000
DTEND;TZID=Europe/London:20240605T130000
DTSTAMP:20260423T180109Z
UID:{0B69461F-9451-4958-800D935871172094}
LOCATION:The Bridge Hotel & Spa
SUMMARY:AIC Services Food/ Feed Scheme Seminar 2024 (Wetherby)
DESCRIPTION:With the launch of the updated FEMAS, TASCC, and UFAS standards on 1 June 2024, AIC Services is hosting a series of seminars to inform scheme Participants of the changes, help them prepare, and answer any questions.\n
 \n
 
PRIORITY:1
END:VEVENT
END:VCALENDAR