BEGIN:VCALENDAR
PRODID:-//Microsoft Corporation//OutlookMIMEDIR//EN
VERSION:2.0
X-WR-TIMEZONE:Europe/London
CALSCALE:GREGORIAN
METHOD:PUBLISH
CLASS:PUBLIC
BEGIN:VTIMEZONE
TZID:Europe/London
LAST-MODIFIED:20260306T231828Z
TZURL:https://www.tzurl.org/zoneinfo-outlook/Europe/London
X-LIC-LOCATION:Europe/London
BEGIN:DAYLIGHT
TZNAME:BST
TZOFFSETFROM:+0000
TZOFFSETTO:+0100
DTSTART:19700329T010000
RRULE:FREQ=YEARLY;BYMONTH=3;BYDAY=-1SU
END:DAYLIGHT
BEGIN:STANDARD
TZNAME:GMT
TZOFFSETFROM:+0100
TZOFFSETTO:+0000
DTSTART:19701025T020000
RRULE:FREQ=YEARLY;BYMONTH=10;BYDAY=-1SU
END:STANDARD
END:VTIMEZONE
BEGIN:VEVENT
DTSTART;TZID=Europe/London:20240611T093000
DTEND;TZID=Europe/London:20240611T130000
DTSTAMP:20260423T175925Z
UID:{0625CE4E-89C7-4089-BD2A1F9352870CF0}
LOCATION:McDiarmid Park  St Johnstone Football Club
SUMMARY:AIC Services Food/ Feed Scheme Seminar 2024 (Perth, Scotland)
DESCRIPTION:These seminars are a valuable opportunity for Participants to hear about the latest updates on the schemes, as well as meet AIC&rsquo;s team and representatives from the certification body Kiwa Agri Food.\n
 \n
 
PRIORITY:1
END:VEVENT
END:VCALENDAR