BEGIN:VCALENDAR
PRODID:-//Microsoft Corporation//OutlookMIMEDIR//EN
VERSION:2.0
X-WR-TIMEZONE:Europe/London
CALSCALE:GREGORIAN
METHOD:PUBLISH
CLASS:PUBLIC
BEGIN:VTIMEZONE
TZID:Europe/London
LAST-MODIFIED:20260306T231828Z
TZURL:https://www.tzurl.org/zoneinfo-outlook/Europe/London
X-LIC-LOCATION:Europe/London
BEGIN:DAYLIGHT
TZNAME:BST
TZOFFSETFROM:+0000
TZOFFSETTO:+0100
DTSTART:19700329T010000
RRULE:FREQ=YEARLY;BYMONTH=3;BYDAY=-1SU
END:DAYLIGHT
BEGIN:STANDARD
TZNAME:GMT
TZOFFSETFROM:+0100
TZOFFSETTO:+0000
DTSTART:19701025T020000
RRULE:FREQ=YEARLY;BYMONTH=10;BYDAY=-1SU
END:STANDARD
END:VTIMEZONE
BEGIN:VEVENT
DTSTART;TZID=Europe/London:20231114T190000
DTEND;TZID=Europe/London:20231115T160000
DTSTAMP:20260421T111907Z
UID:{9C257743-5D9A-46F0-9166E09E966668EC}
LOCATION:Holiday Inn West\, Peterborough (PE3 6SG)
SUMMARY:AIC Dinner and Conference 2023
DESCRIPTION:This year&rsquo;s AIC Dinner and Conference (formerly Agribusiness) will be featuring a range of thought leaders from the political, business, academia and trade to consider the &ldquo;Working with Natural Capital within agri-food supply chain&rdquo;\n
 \n
 \n
 \n
 The conference dinner will take place at the Holiday Inn West, Peterborough. The dinner will open the start of The AIC Conference and will also be a celebration of AIC&rsquo;s Twentieth Anniversary. Following on from this will be the AIC Conference at the same venue which will run throughout the day.\n
 \n
 \n
 \n
 Both the dinner and the conference are open to Members, stakeholders and the trade, further information can be found on the AIC website in the coming weeks.\n
 \n
 
PRIORITY:1
END:VEVENT
END:VCALENDAR